BEGIN:VCALENDAR
VERSION:2.0
PRODID:-//Mosaic Church - ECPv6.15.17//NONSGML v1.0//EN
CALSCALE:GREGORIAN
METHOD:PUBLISH
X-WR-CALNAME:Mosaic Church
X-ORIGINAL-URL:https://mosaicmhk.com
X-WR-CALDESC:Events for Mosaic Church
REFRESH-INTERVAL;VALUE=DURATION:PT1H
X-Robots-Tag:noindex
X-PUBLISHED-TTL:PT1H
BEGIN:VTIMEZONE
TZID:America/Chicago
BEGIN:DAYLIGHT
TZOFFSETFROM:-0600
TZOFFSETTO:-0500
TZNAME:CDT
DTSTART:20220313T080000
END:DAYLIGHT
BEGIN:STANDARD
TZOFFSETFROM:-0500
TZOFFSETTO:-0600
TZNAME:CST
DTSTART:20221106T070000
END:STANDARD
BEGIN:DAYLIGHT
TZOFFSETFROM:-0600
TZOFFSETTO:-0500
TZNAME:CDT
DTSTART:20230312T080000
END:DAYLIGHT
BEGIN:STANDARD
TZOFFSETFROM:-0500
TZOFFSETTO:-0600
TZNAME:CST
DTSTART:20231105T070000
END:STANDARD
BEGIN:DAYLIGHT
TZOFFSETFROM:-0600
TZOFFSETTO:-0500
TZNAME:CDT
DTSTART:20240310T080000
END:DAYLIGHT
BEGIN:STANDARD
TZOFFSETFROM:-0500
TZOFFSETTO:-0600
TZNAME:CST
DTSTART:20241103T070000
END:STANDARD
END:VTIMEZONE
BEGIN:VEVENT
DTSTART;TZID=America/Chicago:20231104T140000
DTEND;TZID=America/Chicago:20231104T160000
DTSTAMP:20260421T192903
CREATED:20231027T033251Z
LAST-MODIFIED:20231102T171544Z
UID:1929-1699106400-1699113600@mosaicmhk.com
SUMMARY:GRIEFSHARE SURVIVING THE HOLIDAYS - THANKSGIVING
DESCRIPTION:You’re invited to join us for Griefshare: Surviving the Holidays\, a group for support & practical tips for facing holiday challenges after loss. We’ll gathering at 2pm in the Groesbeck Room at the Manhattan Public Library where we’ll watch a relatable video\, have some small group discussion\, and receive a guide on how to manage this holiday season with peace. \nThis first Griefshare session will focus on Thanksgiving. You can watch a sample video here.
URL:https://mosaicmhk.com/event/mindful-griefshare-surviving-thanksgiving/
LOCATION:Groesbeck Room at the Manhattan Public Library\, 629 Poyntz Ave\, Manhattan\, KS\, 66502
CATEGORIES:Mindful Series
ATTACH;FMTTYPE=image/jpeg:https://mosaicmhk.com/wp-content/uploads/2023/10/Surviving-the-Holidays-GriefShare.jpeg
ORGANIZER;CN="Josh Siders":MAILTO:joshsiders@mosaicmhk.com
END:VEVENT
BEGIN:VEVENT
DTSTART;TZID=America/Chicago:20231105T100000
DTEND;TZID=America/Chicago:20231105T111500
DTSTAMP:20260421T192903
CREATED:20231026T202947Z
LAST-MODIFIED:20231026T234206Z
UID:1779-1699178400-1699182900@mosaicmhk.com
SUMMARY:MOSAIC GATHERING - MINDFUL WEEK 2
DESCRIPTION:God cares about your mental health and wellness\, and so do we. \nPastor Sarah Siders continues our series called Mindful about the grounding practices needed to support a lifestyle of care and wellness. Sarah will be talking about the reflection we need to support a lifestyle of mental wellness. \nFor more information\, visit mosaicmhk.com/mindful \nAdditional assistance can be found at mosaicmhk.com/care
URL:https://mosaicmhk.com/event/mindful-week-2/
LOCATION:Mosaic Church\, 427 Houston Street\, Manhattan\, Kansas\, 66502\, United States
CATEGORIES:Mindful Series
ATTACH;FMTTYPE=image/jpeg:https://mosaicmhk.com/wp-content/uploads/2023/10/Mindful-Title-Simple-scaled.jpg
ORGANIZER;CN="Josh Siders":MAILTO:joshsiders@mosaicmhk.com
END:VEVENT
BEGIN:VEVENT
DTSTART;TZID=America/Chicago:20231107T193000
DTEND;TZID=America/Chicago:20231107T203000
DTSTAMP:20260421T192903
CREATED:20231031T183402Z
LAST-MODIFIED:20231031T183402Z
UID:1967-1699385400-1699389000@mosaicmhk.com
SUMMARY:MINDFUL SLOW FLOW YOGA
DESCRIPTION:Whether you’re brand new to yoga\, or a longtime practicioner\, join us for this Mindful event. We align our breathing and body movements in service to mental health and wellness.\n\nWe will be guided by Maris Deaver\, and Chapter Five has been generous in donating this class to us for free.\nFrom Chapter Five’s website: Moving with your breath doesn’t always mean moving quickly. This class is an opportunity to explore breath as you move through gentle yoga postures at a slower pace. Connecting breath to movement with intention and alignment awareness\, Slow Flow allows you to dive deeper into breath and body sensation while also helping to calm your nervous system.\n\nVisit Chapter Five’s website for more information about classes.
URL:https://mosaicmhk.com/event/mindful-slow-flow-yoga/
LOCATION:Chapter Five Yoga\, 311 Houston Street\, Manhattan\, 66502
CATEGORIES:Mindful Series
ATTACH;FMTTYPE=image/jpeg:https://mosaicmhk.com/wp-content/uploads/2023/10/2023.11.07-Yoga-scaled.jpg
ORGANIZER;CN="Josh Siders":MAILTO:joshsiders@mosaicmhk.com
END:VEVENT
BEGIN:VEVENT
DTSTART;TZID=America/Chicago:20231112T100000
DTEND;TZID=America/Chicago:20231112T111500
DTSTAMP:20260421T192903
CREATED:20231026T234119Z
LAST-MODIFIED:20231026T234119Z
UID:1798-1699783200-1699787700@mosaicmhk.com
SUMMARY:MOSAIC GATHERING - MINDFUL WEEK 3
DESCRIPTION:God cares about your mental health and wellness\, and so do we. \nPastor Josh Siders continues our series called Mindful about the grounding practices needed to support a lifestyle of care and wellness. Josh will be talking about the healing that comes through our connection with God. \nFor more information\, visit mosaicmhk.com/mindful \nAdditional assistance can be found at mosaicmhk.com/care
URL:https://mosaicmhk.com/event/mindful-week-3/
LOCATION:Mosaic Church\, 427 Houston Street\, Manhattan\, Kansas\, 66502\, United States
CATEGORIES:Mindful Series
ATTACH;FMTTYPE=image/jpeg:https://mosaicmhk.com/wp-content/uploads/2023/10/Mindful-Title-Simple-scaled.jpg
ORGANIZER;CN="Josh Siders":MAILTO:joshsiders@mosaicmhk.com
END:VEVENT
BEGIN:VEVENT
DTSTART;TZID=America/Chicago:20231119T100000
DTEND;TZID=America/Chicago:20231119T111500
DTSTAMP:20260421T192903
CREATED:20231026T234223Z
LAST-MODIFIED:20231026T235047Z
UID:1803-1700388000-1700392500@mosaicmhk.com
SUMMARY:MOSAIC GATHERING - MINDFUL WEEK 4
DESCRIPTION:God cares about your mental health and wellness\, and so do we. \nPastor Ben Deaver continues our series called Mindful about the grounding practices needed to support a lifestyle of care and wellness. Ben will be talking about the healing that comes through the understanding of the connection with ourselves. \nFor more information\, visit mosaicmhk.com/mindful \nAdditional assistance can be found at mosaicmhk.com/care
URL:https://mosaicmhk.com/event/mindful-week-4/
LOCATION:Mosaic Church\, 427 Houston Street\, Manhattan\, Kansas\, 66502\, United States
CATEGORIES:Mindful Series
ATTACH;FMTTYPE=image/jpeg:https://mosaicmhk.com/wp-content/uploads/2023/10/Mindful-Title-Simple-scaled.jpg
ORGANIZER;CN="Josh Siders":MAILTO:joshsiders@mosaicmhk.com
END:VEVENT
BEGIN:VEVENT
DTSTART;TZID=America/Chicago:20231126T100000
DTEND;TZID=America/Chicago:20231126T111500
DTSTAMP:20260421T192903
CREATED:20231026T235227Z
LAST-MODIFIED:20231026T235227Z
UID:1818-1700992800-1700997300@mosaicmhk.com
SUMMARY:MOSAIC GATHERING - MINDFUL WEEK 5
DESCRIPTION:God cares about your mental health and wellness\, and so do we. \nJustin Kastner continues our series called Mindful about the grounding practices needed to support a lifestyle of care and wellness. Justin will be talking about the healing that comes through our connection with others. \nFor more information\, visit mosaicmhk.com/mindful \nAdditional assistance can be found at mosaicmhk.com/care
URL:https://mosaicmhk.com/event/mindful-week-5/
LOCATION:Mosaic Church\, 427 Houston Street\, Manhattan\, Kansas\, 66502\, United States
CATEGORIES:Mindful Series
ATTACH;FMTTYPE=image/jpeg:https://mosaicmhk.com/wp-content/uploads/2023/10/Mindful-Title-Simple-scaled.jpg
ORGANIZER;CN="Josh Siders":MAILTO:joshsiders@mosaicmhk.com
END:VEVENT
END:VCALENDAR